BEGIN:VCALENDAR
VERSION:2.0
PRODID:-//shunyatawellness.com - ECPv6.4.0.1//NONSGML v1.0//EN
CALSCALE:GREGORIAN
METHOD:PUBLISH
X-WR-CALNAME:shunyatawellness.com
X-ORIGINAL-URL:https://shunyatawellness.com
X-WR-CALDESC:Events for shunyatawellness.com
REFRESH-INTERVAL;VALUE=DURATION:PT1H
X-Robots-Tag:noindex
X-PUBLISHED-TTL:PT1H
BEGIN:VTIMEZONE
TZID:Europe/London
BEGIN:DAYLIGHT
TZOFFSETFROM:+0000
TZOFFSETTO:+0100
TZNAME:BST
DTSTART:20240331T010000
END:DAYLIGHT
BEGIN:STANDARD
TZOFFSETFROM:+0100
TZOFFSETTO:+0000
TZNAME:GMT
DTSTART:20241027T010000
END:STANDARD
END:VTIMEZONE
BEGIN:VEVENT
DTSTART;TZID=Europe/London:20240518T063000
DTEND;TZID=Europe/London:20240519T080000
DTSTAMP:20260421T014855
CREATED:20240513T154143Z
LAST-MODIFIED:20240519T073256Z
UID:646-1716013800-1716105600@shunyatawellness.com
SUMMARY:Stress-Free Zone: 2-Day Workshop
DESCRIPTION:Language: Hindi & English \nProgram Type: Also for Beginners \nFacilitator: Nikhil Sharma \nOverview: \nIn today’s fast-paced world\, stress has become an unavoidable part of our lives\, affecting our physical health\, mental well-being\, and overall quality of life. However\, finding effective strategies to manage and reduce stress is crucial for maintaining balance and harmony. That’s why we invite you to join us for a transformative journey into the Stress-Free Zone\, a two-day online workshop designed to equip you with practical tools and techniques to alleviate stress\, cultivate resilience\, and reclaim your inner peace. \nDates & Times: \n\nDay 1: [Insert Date]\, [Insert Time]\nDay 2: [Insert Date]\, [Insert Time]\n\nLocation: \nThis workshop will be conducted entirely online via [Insert Platform Name]\, providing you with the flexibility to participate from the comfort of your own home or any location with internet access. \nKey Highlights: \nDay 1: Understanding Stress \n\nSession 1: The Science of Stress: Explore the physiological and psychological aspects of stress\, understanding its impact on the mind and body.\nSession 2: Identifying Stress Triggers: Learn to recognize common stress triggers in your life and gain insights into their underlying causes.\nSession 3: Mindfulness Meditation: Engage in guided mindfulness meditation practices to cultivate awareness and presence in the present moment.\n\nDay 2: Strategies for Stress Relief \n\nSession 4: Stress Management Techniques: Discover practical strategies and techniques for managing stress effectively\, including relaxation exercises\, deep breathing\, and progressive muscle relaxation.\nSession 5: Cultivating Resilience: Explore the concept of resilience and learn how to build inner strength and resilience to better cope with life’s challenges.\nSession 6: Creating Your Stress-Free Plan: Develop a personalized stress management plan tailored to your unique needs and circumstances.\n\nWorkshop Format: \n\nInteractive Sessions: Engage in interactive sessions facilitated by experienced mindfulness and stress management experts.\nGroup Discussions: Participate in group discussions\, sharing experiences\, insights\, and challenges with fellow participants.\nPractical Exercises: Practice mindfulness meditation\, relaxation techniques\, and stress management exercises in a supportive and nurturing environment.\nQ&A Sessions: Get answers to your questions and receive personalized guidance from our facilitators.\n\nBenefits of Attending: \n\nGain a deeper understanding of stress and its impact on your life.\nLearn practical tools and techniques to manage stress effectively.\nCultivate mindfulness and resilience to navigate life’s challenges with greater ease.\nConnect with a supportive community of like-minded individuals on a journey to stress-free living.\nDevelop a personalized stress management plan to integrate into your daily life.\n\nRegistration Details: \n\nRegistration Fee: [Insert Fee]\nEarly Bird Discount: [Insert Details\, if applicable]\nRegistration Deadline: [Insert Deadline]\n\nHow to Register: \nTo reserve your spot in the Stress-Free Zone workshop\, simply [Insert Registration Instructions]. \nDon’t miss this opportunity to embark on a transformative journey towards a stress-free and fulfilling life. Join us for the Stress-Free Zone: 2-Day Workshop and take the first step towards reclaiming your inner peace and well-being.
URL:https://shunyatawellness.com/event/stress-free-zone-2-day-workshop/
CATEGORIES:Our Events
END:VEVENT
BEGIN:VEVENT
DTSTART;TZID=Europe/London:20240514T080000
DTEND;TZID=Europe/London:20241231T233000
DTSTAMP:20260421T014855
CREATED:20240513T161220Z
LAST-MODIFIED:20240519T073304Z
UID:653-1715673600-1735687800@shunyatawellness.com
SUMMARY:One Month Online Meditation Workshop
DESCRIPTION:(Join Anytime) \nLanguage: Hindi & English \nProgram Type: Also for Beginners \nAge Group: Above 16 \nFacilitator: Nikhil Sharma \nOverview: \nThe workshop will consist of One-on-One sessions and Group sessions. After one month\, you can also continue on a monthly basis. \nWorkshop Focus Areas: \nWEEK 1\n\n\n\nIntroduction to Meditation\nUnderstanding the Mind\nRemoving Toxicity\nOvercoming of Fears & Anxiety\nDynamic Meditation\nVipassana Meditation\n\nWEEK 2\n\n\n\n\nEmotional Awareness\nBody-Mind Connection\nEmbracing the present moment\nMudras for Meditation & Yoga\nKundalini Meditation\nBrahmananda Meditation\n\nWEEK 3\n\n\n\n\nSelf-Compassion Meditation\nObserving Stillness\nStrengthening relationships\nInner Silence Meditation\nChakra Meditation\nMastering Breadth\n\nWEEK 4\n\n\n\n\nAura Cleaning\nDetoxification of body\nHealing of Overall being\nNo-Mind Meditation\nWalking Meditation\nObserving the stillness within\n\nWHAT IF I MISS ANY SESSION:  \n\nRecordings will be available. But you’ve to inform the facilitator in prior.\nAny Crucial Session if you miss\, it will be covered in one on one session.\nYou can also join another batch\, but only after obtaining approval from the facilitator (if you are unable to join during your assigned batch time).
URL:https://shunyatawellness.com/event/one-month-online-meditation-workshop/
CATEGORIES:Our Events
END:VEVENT
BEGIN:VEVENT
DTSTART;TZID=Europe/London:20240514T080000
DTEND;TZID=Europe/London:20241214T233000
DTSTAMP:20260421T014855
CREATED:20240513T160438Z
LAST-MODIFIED:20240513T160756Z
UID:651-1715673600-1734219000@shunyatawellness.com
SUMMARY:Young Champion Workshop: Building Brighter Futures  One Month Workshop for students
DESCRIPTION:(Join Anytime) \nLanguage: Hindi & English \nAge group: 10 to 15 \nFacilitator: Nikhil Sharma \nOverview: \nEmbark on a transformative journey with our one-month Kids’ Development Odyssey workshop\, specially designed to nurture the holistic development of children. Guided by experienced facilitators\, this comprehensive program integrates a diverse range of activities and exercises aimed at fostering emotional well-being\, confidence-building\, communication skills\, and mindfulness practices. \nWorkshop Focus Areas: \nWeek 1: Embracing Emotional Wellness \n\nSession 1: Exploring Emotions: Children will learn to identify and express their emotions in a healthy and constructive manner.\nSession 2: Mindfulness for Kids: Introduction to mindfulness practices\, including breathing exercises and sensory awareness activities.\nSession 3: Art Therapy: Engage in creative expression through art activities to explore emotions and promote self-awareness.\n\nWeek 2: Overcoming Fears and Building Confidence \n\nSession 4: Releasing Fear: Techniques to overcome common fears and anxieties\, promoting courage and resilience.\nSession 5: Building Self-Esteem: Activities to boost self-esteem and foster a positive self-image.\nSession 6: Outdoor Adventures: Outdoor activities and team-building exercises to promote risk-taking and confidence-building.\n\nWeek 3: Mastering Public Speaking \n\nSession 7: Introduction to Public Speaking: Basic principles of effective communication and public speaking skills.\nSession 8: Presentation Practice: Opportunities for children to practice speaking in front of their peers in a supportive environment.\nSession 9: Storytelling Workshop: Learn the art of storytelling and develop confidence in oral expression.\n\nWeek 4: Integrating Skills for Growth \n\nSession 10: Goal Setting: Setting achievable goals and creating action plans for personal growth.\nSession 11: Celebration Day: Showcase of children’s achievements and progress throughout the workshop.\nSession 12: Reflection and Integration: Reflection on learnings and strategies for integrating newfound skills into daily life.\n\nWorkshop Format: \n\nInteractive Sessions: Engage in interactive discussions\, activities\, and games tailored to each week’s theme.\nCreative Expression: Explore creativity through art\, storytelling\, and other expressive mediums.\nPractical Exercises: Practice mindfulness\, public speaking\, and confidence-building exercises in a supportive and encouraging environment.\nGroup Dynamics: Foster teamwork\, collaboration\, and social skills through group activities and team challenges.\n\nWorkshop Details: \n\nDuration: One month (four weeks)\nAge Group: [Specify age range]\nFrequency: [Specify frequency of sessions\, e.g.\, weekly sessions]\nTiming: [Specify workshop timings]\nPlatform: [Specify whether workshop will be conducted in-person or online]\n\nRegistration Details: \n\nRegistration Fee: [Insert Fee]\nEarly Bird Discount: [Insert Details\, if applicable]\nRegistration Deadline: [Insert Deadline]\n\nHow to Register: \nTo enroll your child in the Kids’ Development Odyssey workshop\, simply [Insert Registration Instructions]. \nBenefits for Kids: \n\nEnhance emotional intelligence and self-awareness.\nBuild confidence\, resilience\, and self-esteem.\nDevelop effective communication and public speaking skills.\nCultivate mindfulness and stress management techniques.\nFoster creativity\, teamwork\, and leadership qualities.\n\nJoin us on this enriching journey of self-discovery and growth!
URL:https://shunyatawellness.com/event/young-champion-workshop-building-brighter-futures-one-month-workshop-for-students/
END:VEVENT
END:VCALENDAR